Workbook
Name A: #REF!
Name A: #REF!
Name A: #REF!

Sheet 1.0 Statistical Identification
A2: Department of Statistics with Economic Research Forum
A3: Jordan Labor Market Panel Survey (2016)
A4: 2. Individual Questionnaire for all individuals
A6: Section 1: Statistical Identification
A7: Interviewer: Review following basic characteristics with respondent at start of individual questionnaire
A8: 1000 | B8: Is this individual from a refresher household or one including 2010 members? | C8: 1- Includes 2010 members 2-Refresher of 2016 | D8: =CONCATENATE("If =2-->Q",A10) -> If =2-->Q1002
A9: 1001 | B9: Number of the household in JLMPS 2016 | D9: =CONCATENATE("-->Q",A11) -> -->Q202
A10: =A9+1 -> 1002 | B10: Cluster number and household # in cluster | C10: Generate and display hhid
A11: 202 | B11: Name of the interviewee
A12: 201 | B12: Number of the Individual in the household in JLMPS 2016 from roster list
A13: 204 | B13: Gender of the individual | C13: "1 - Male 2 - Female"
A14: 205 | B14: Birth Date by Month and Year | C14: Dropdown menus: Month {1 - 12, 98 if don't know} Year {1900-2016, 9998 if don't know}
A15: 206 | B15: "Age (in years completed) *For interviewer: if individual is older than 99, just write 99 *guess if don't know" | C15: Numerical textbox {0-99}: |___|___|
A16: 207 | B16: Nationality | C16: Provide dropdown menu of nationalities
A17: 208 | B17: a. Was the individual a member of the household in enumeration (when you were visited in June 2016)? b. If yes, write down name and line number of the individual in the household in enumeration [list will be given] | C17: Dropdown menu 1. Yes 2. No Enumeration line number: |___|___|
A18: 209 | B18: Does the individual live with the family all the time? | C18: Dropdown menu 1. Yes 2. No | D18: =CONCATENATE("If =1-->Q",A20) -> If =1-->Q211
A19: 210 | B19: Does the individual stay over at least one time a week? | C19: Dropdown menu 1. Yes 2. No
A20: 211 | B20: What is the individual's martial status | C20: 1. Single* 2. Married 3. Divorced* 4. Widow(er) * 5. Separated* | D20: (For individuals ages 12 and over (check Q206)) If 1 3,4, or 5-->213
A21: 212 | B21: Does the spouse live with the family? *if the answer is yes, write the line number of the spouse | C21: "Dropdown menu 1. Yes 2. No Spouse's line number: |___|___| "
A22: 213 | B22: "Does the father live in the same housing? *if the answer is yes, write the line number of the father " | C22: "Dropdown menu 1. Yes 2. No Father's line number: |___|___| "
A23: 214 | B23: Does the mother live in the same housing? *if the answer is yes, write the line number of the mother | C23: Dropdown menu 1. Yes 2. No Mother's line number: |___|___|
A24: =A10+1 -> 1003 | B24: Is the individual him/herself being interviewed for the questionnaire? | C24: 1. Yes 2. No 3. Unable to answer for self | D24: =CONCATENATE("Only allow no response on the third visit, If yes -->", '2.1 Personal Biography'!A4) -> Only allow no response on the third visit, If yes -->2101
A25: =A24+1 -> 1004 | B25: Number of the responding individual
A28: Visit Number | B28: Date of Visit
A29: First | B29: =A25+1 -> 1005 | C29: Day
C30: Month
C31: Year
A32: Second | B32: =B29+1 -> 1006 | C32: Day
C33: Month
C34: Year
A35: Third | B35: =B32+1 -> 1007 | C35: Day
C36: Month
C37: Year

Sheet 2.1 Personal Biography
A1: Section 2 Personal Biography and Family Background
A2: 2.1 Individual's Personal Biography Ages 6+ based on Q206
A3: Question # | B3: Question | C3: Type of Question | D3: Validation Rule
A4: 2101 | B4: Date of birth [auto-populate from 205 and don't display]
A5: =A4+1 -> 2102 | B5: Age [auto-populate from 206 and don't display] | D5: =CONCATENATE("If age is <15, skip to",A29) -> If age is <15, skip to2121
A6: =A5+1 -> 2103 | B6: Have you ever been married? | C6: 1. Yes 2. No | D6: =CONCATENATE("Skip Pattern If 2-->",A29," Check with household Questionnaire,Q211: - If Q211=1, --> ",A6," =No - If Q211=(2 or 3 or 4 or 5) --> Q",A6,"=Yes") -> Skip Pattern If 2-->2121 Check with household Questionnaire,Q211: - If Q211=1, --> 2103 =No - If Q211=(2 or 3 or 4 or 5) --> Q2103=Yes
A7: =A6+1 -> 2104 | B7: How many times have you been married? | C7: 1. Once 2. Twice 3. Three times 4. Four times or more 98. Don't know
A8: First Marriage
A9: =A7+1 -> 2105 | B9: When was your first marriage? | C9: a. MONTH: Drop down menu (Jan-Dec), 98 if don't know b. YEAR: Drop down menu (1930-2016, if don't know 9998) | D9: =CONCATENATE("If year=9998, --> Q", A10," Otherwise -->",A11," and automatically calculate the age in ",A10," from ", A4, " Validation rule: Q",A9,"must be at least 8+year of birth ") -> If year=9998, --> Q2106 Otherwise -->2107 and automatically calculate the age in 2106 from 2101 Validation rule: Q2105must be at least 8+year of birth
A10: =A9+1 -> 2106 | B10: How old were you when you got married for the first time (in completed years)? | C10: Age: _____________ *if don't know, 98 | D10: Textbox accepting integers
A11: =A10+1 -> 2107 | B11: Did this marriage end through divorce or widowhood? | C11: 1. Yes, divorce 2. Yes, widowhood 3. No 98. Don't know | D11: =CONCATENATE("Skip Pattern: If 3 or 98 --> Check ", A7, " If Q", A7," =1 or 98 --> Q", A29, " If Q", A7,"----> else --> Q", A14, " If Q",A7,"=1 & Q",A11,"= 1 or 2 --> Check the household Questionnaire; Q211 should be either 3 or 4") -> Skip Pattern: If 3 or 98 --> Check 2104 If Q2104 =1 or 98 --> Q2121 If Q2104----> else --> Q2109 If Q2104=1 & Q2107= 1 or 2 --> Check the household Questionnaire; Q211 should be either 3 or 4
A12: =A11+1 -> 2108 | B12: When did this marriage end (year)? | C12: Drop down menu (Don’t Remember 9998 & 1930-2016) | D12: =CONCATENATE("Skip Pattern: If Q",A7," =1 or 98 --> Q",A29, " If Q", A7," ---> else --> Q", A14) -> Skip Pattern: If Q2104 =1 or 98 --> Q2121 If Q2104 ---> else --> Q2109
A13: Second Marriage
A14: =A12+1 -> 2109 | B14: When was your second marriage? | C14: a. MONTH: Drop down menu (Jan-Dec), 98 if don't know b. YEAR: Drop down menu (1930-2016, if don't know 9998) | D14: =CONCATENATE("If year=9998, --> Q", A15," Otherwise -->",A16," and automatically calculate the age in ",A15," from ", A$4) -> If year=9998, --> Q2110 Otherwise -->2111 and automatically calculate the age in 2110 from 2101
A15: =A14+1 -> 2110 | B15: How old were you when you got married for the second time (in completed years)? | C15: Age: _____________ *if don't know, 98 | D15: Textbox accepting numbers
A16: =A15+1 -> 2111 | B16: Did this marriage end through divorce or widowhood? | C16: 1. Yes, divorce 2. Yes, widowhood 3. No 98. Don't know | D16: =CONCATENATE("Skip Pattern: If 3 or 98 --> Check ", A$7, " If Q", A$7," =2 --> Q", A$29, " If Q", A$7,"> 2--> Q", A19,) -> Skip Pattern: If 3 or 98 --> Check 2104 If Q2104 =2 --> Q2121 If Q2104> 2--> Q2113
A17: =A16+1 -> 2112 | B17: When did this marriage end (year)? | C17: Drop down menu (Don’t Remember 9998 & 1930-2016) | D17: =CONCATENATE("Skip Pattern: Check ", A$7, " If Q", A$7," =2 --> Q", A$29, " If Q", A$7,"> 2--> Q", A19,) -> Skip Pattern: Check 2104 If Q2104 =2 --> Q2121 If Q2104> 2--> Q2113
A18: Third Marriage
A19: =A17+1 -> 2113 | B19: When was your third marriage? | C19: a. MONTH: Drop down menu (Jan-Dec), 98 if don't know b. YEAR: Drop down menu (1930-2016, if don't know 9998) | D19: =CONCATENATE("If year=9998, --> Q", A20," Otherwise -->",A21," and automatically calculate the age in ",A20," from ", A$4) -> If year=9998, --> Q2114 Otherwise -->2115 and automatically calculate the age in 2114 from 2101
A20: =A19+1 -> 2114 | B20: How old were you when you got married for the third time (in completed years)? | C20: Age: _____________ *if don't know, 98 | D20: Textbox accepting numbers
A21: =A20+1 -> 2115 | B21: Did this marriage end through divorce or widowhood? | C21: 1. Yes, divorce 2. Yes, widowhood 3. No 98. Don't know | D21: =CONCATENATE("Skip Pattern: If 3 or 98 --> Check ", A$7, " If Q", A$7," =3 --> Q", A$29, " If Q", A$7,"> 3--> Q", A24,) -> Skip Pattern: If 3 or 98 --> Check 2104 If Q2104 =3 --> Q2121 If Q2104> 3--> Q2117
A22: =A21+1 -> 2116 | B22: When did this marriage end? | C22: Drop down menu (Don’t Remember 9998 & 1930-2016) | D22: =CONCATENATE("Skip Pattern: Check ", A$7, " If Q", A$7," =3 --> Q", A$29, " If Q", A$7,"> 3--> Q", A24,) -> Skip Pattern: Check 2104 If Q2104 =3 --> Q2121 If Q2104> 3--> Q2117
A23: Fourth Marriage
A24: =A22+1 -> 2117 | B24: When was your fourth marriage? | C24: a. MONTH: Drop down menu (Jan-Dec), 98 if don't know b. YEAR: Drop down menu (1930-2016, if don't know 9998) | D24: =CONCATENATE("If year=9998, --> Q", A25," Otherwise -->",A26," and automatically calculate the age in ",A25," from ", A$4) -> If year=9998, --> Q2118 Otherwise -->2119 and automatically calculate the age in 2118 from 2101
A25: =A24+1 -> 2118 | B25: How old were you when you got married for the fourth time (in completed years)? | C25: Age: _____________ *if don't know, 98 | D25: Textbox accepting numbers
A26: =A25+1 -> 2119 | B26: Did this marriage end through divorce or widowhood? | C26: 1. Yes, divorce 2. Yes, widowhood 2. No 98. Don't know | D26: =CONCATENATE("Skip Pattern: If 3 or 98 -->",A29) -> Skip Pattern: If 3 or 98 -->2121
A27: =A26+1 -> 2120 | B27: When did this marriage end (year)? | C27: Drop down menu (Don’t Remember 9998 & 1930-2016)
A28: Education Years
A29: =A27+1 -> 2121 | B29: What year did you start your education for the first time? (starting grade 1) ** the interviewer should select N/A in case the individual did not go to school at all. | C29: Dropdown menu (1930-2016 Don't remember/don't know: 9998 Not applicable: 9999) | D29: =CONCATENATE("If 9999 --> Q", A46," If 9998 -->",A30," Otherwise -->",A31, " and automatically calculate age") -> If 9999 --> Q2135 If 9998 -->2122 Otherwise -->2123 and automatically calculate age
A30: =A29+1 -> 2122 | B30: How old were you when you started your education for the first time? | C30: Age: |___|___| *If don't know, 98
A31: =A30+1 -> 2123 | B31: Did you discontinue your education for a period longer than 6 months and then resume? | C31: 1. Yes 2. No 98. Don't know | D31: =CONCATENATE("Skip Pattern: If 2 or 98 --> Q",A36) -> Skip Pattern: If 2 or 98 --> Q2127
A32: =A31+1 -> 2124 | B32: How many times did you discontinue your education for more than 6 months and then resume? | C32: 1. Once 2. Twice 3. More than Twice 98. Don't know | D32: =CONCATENATE("Skip Pattern: If 98 --> Q",A36 ) -> Skip Pattern: If 98 --> Q2127
B33: Discontinued Once
A34: =A32+1 -> 2125 | B34: What year did you discontinue your education for the first time? | C34: Dropdown menu (1930-2016, if don't know: 9998)
A35: =A34+1 -> 2126 | B35: What year did you resume your education after the first break? | C35: Dropdown menu (1930-2016, if don't know: 9998) | D35: =CONCATENATE("Skip Pattern: If Q", A32,"=2 or =3 --> Q",A40) -> Skip Pattern: If Q2124=2 or =3 --> Q2130
A36: =A35+1 -> 2127 | B36: Are you currently enrolled in education? | C36: 1. Yes 2. No | D36: =CONCATENATE("Skip Pattern: If 1 --> Q",A46) -> Skip Pattern: If 1 --> Q2135
A37: =A36+1 -> 2128 | B37: What year did you complete or leave your education? | C37: Dropdown menu (1930-2016 Don't remember/don't know: 9998 | D37: =CONCATENATE("If 9998 -->",A38, " Otherwise --> Q",A46, " and automatically calculate age of school completion") -> If 9998 -->2129 Otherwise --> Q2135 and automatically calculate age of school completion
A38: =A37+1 -> 2129 | B38: How old were you when you completed your education? | C38: Age: |___|___| *If don't know, 98 | D38: =CONCATENATE("After answering --> Q", A46) -> After answering --> Q2135
B39: Discontinued Twice or More
A40: =A38+1 -> 2130 | B40: What year did you discontinue your education for the second time? | C40: Dropdown menu (1930-2016, if don't know: 9998)
...

Sheet 2.2 Father's characteristics
A1: Section 2 Personal Biography and Family Background
A2: Section 2.2 Father's Characteristics Ages 6+ based on Q206
A4: Question # | B4: Question | C4: Type of Question | D4: Validation
A5: 2201 | B5: Does this individual's father live in the same household? [auto-populate from 213] | C5: 1. Yes 2. No 98. Don't know | D5: =CONCATENATE("Verify with housheold questionniare If 1 -->",A6, " If 2 or 98 -->",A7) -> Verify with housheold questionniare If 1 -->2202 If 2 or 98 -->2203
A6: =A5+1 -> 2202 | B6: Enter father's line number [auto-populate from 213] | C6: Dropdown menu with the names (or given numbers) of members of the household | D6: Link with other Questionnaires household Questionnaire Verify with household questionnaire response - The names of the household members with their given serial number should be included in the dropdown menu Skip Pattern: After answering --> next section
A7: =A6+1 -> 2203 | B7: When was your father born? | C7: Drop down menu 1850-2016 Don’t know 9998
A8: =A7+1 -> 2204 | B8: What is your father’s highest educational certificate? | C8: 1. Illiterate
C9: 2. Read and Write
C10: 3. Primary
C11: 4. Preparatory
C12: 5. Basic
C13: 6. Vocational edu.
C14: 7. Secondary
C15: 8. Intermediate diploma
C16: 9. BA
C17: 10. Post-graduate Diploma
C18: 11. MA
C19: 12. PhD
C20: 98. Don't know
A21: =A8+1 -> 2205 | B21: What was father's main employment status when you were 15 of age? (If father died before individual reached 15, s/he should be asked about father's last work, if individual is under 15, ask about current father's status) | C21: Dropdown menu with the following choices: | D21: Skip Pattern: If 7 or 98 --> next section
C22: 1. Reguar wage worker
C23: 2. Irregular wage worker
C24: 3. Employer
C25: 4. Self employed
C26: 5. Unpaid worker for family
C27: 6. Unpaid worker for others
C28: 7. No job
C29: 98. Don't know
A30: =A21+1 -> 2206 | B30: What was your father’s main occupation when you were 15 years of age? (If father died before individual reached 15, s/he should be asked about father's last work, if individual is under 15, ask about current father's status) Note: write 98 if DK | C30: Occupation: | D30: Provide a textbox
A31: =A30+1 -> 2207 | B31: Sector of father's job when s/he was 15 years old? (If father died before individual reached 15, s/he should be asked about father's last work, if individual is under 15, ask about current father's status) | C31: 1. Government | D31: If 97, provide a textbox
C32: 2. Public Enterprise
C33: 3. Private sector
C34: 4. International organization
C35: 97. Other, specify
C36: 98. Don't know

Sheet 2.3 Mother's characteristics
A1: Section 2. Personal Biography and Family Background
A2: Section 2.3 Mother's Characteristics Ages 6+ based on Q206
A4: Question # | B4: Question | C4: Type of Question | D4: Validation
A5: 2301 | B5: Does this individual's mother live in the same household? [autopopulate from 214] | C5: 1. Yes 2. No 98. Don't know | D5: =CONCATENATE("Verify with housheold questionniare If 1 -->",A6, " If 2 or 98 -->",A7) -> Verify with housheold questionniare If 1 -->2302 If 2 or 98 -->2303
A6: =A5+1 -> 2302 | B6: Enter mother's line number [autopopulate from 214] | C6: Dropdown menu with the names (+ given numbers) of members of the houshold | D6: Link with other Questionnaires household Questionnaire Verify with household questionnaire response - The names of the household members with their given serial number should be included in the dropdown menu Skip Pattern: After answering --> next section
A7: =A6+1 -> 2303 | B7: When was your mother born? | C7: Drop down menu 1850-2016 Don’t know 9998
A8: =A7+1 -> 2304 | B8: What is your mother's highest educational certificate? | C8: 1. Illiterate
C9: 2. Read and Write
C10: 3. Primary
C11: 4. Preparatory
C12: 5. Basic
C13: 6. Vocational edu.
C14: 7. Secondary
C15: 8. Intermediate diploma
C16: 9. BA
C17: 10. Post-graduate Diploma
C18: 11. MA
C19: 12. PhD
C20: 98. Don't know
A21: =A8+1 -> 2305 | B21: What was mother's main employment status when you were 15 years of age? If mother died before individual reached 15, s/he should be asked about mother's last work. If individual is less than 15, ask about mother's current status) | C21: Dropdown menu with the following choices: | D21: Skip Pattern: If answer is 7 or 98 --> next section
C22: 1. Reguar wage worker
C23: 2. Irregular wage worker
C24: 3. Employer
C25: 4. Self employed
C26: 5. Unpaid worker for family
C27: 6. Unpaid worker for others
C28: 7. No job
C29: 98. Don't know
A30: =A21+1 -> 2306 | B30: What was your mother’s main occupation when you were 15 years of age? ( If mother died before individual reached 15, s/he should be asked about mother's last work. If individual is less than 15, ask about mother's current status) Note: write 98 if DK | C30: Occupation: | D30: Text box
A31: =A30+1 -> 2307 | B31: Sector of mother's job when she/he 15 years of age ( If mother died before individual reached 15, s/he should be asked about mother's last work. If individual is less than 15, ask about mother's current status) | D31: If 97, provide a textbox
C32: 1. Government
C33: 2. Public Enterprise
C34: 3. Private sector
C35: 4. International organization
C36: 97. Other, specify
C37: 98. Don't know

Sheet 2.4 Siblings
A1: Section 2.4 Siblings (whether present or absent)
D2: Ages 6+ based on Q206
A3: Question # | B3: Question | C3: Question Type | D3: Validation
A4: 2401 | B4: How many living brothers/sisters do you have? | C4: Males: |___|___| Females: |___|___| | D4: =CONCATENATE("Provide numerical textboxes or drop down menus Skip Pattern: If sum of Males and females = 0 --> Q", A13, " If age<15, -->Q",A13) -> Provide numerical textboxes or drop down menus Skip Pattern: If sum of Males and females = 0 --> Q2411 If age<15, -->Q2411
A5: 2402 | B5: Did any of your siblings migrate (live) abroad and did not return back? | C5: 1. Yes 2. No 98. Don't know | D5: =CONCATENATE(" If 2 or 98 --> Q", A13) -> If 2 or 98 --> Q2411
A6: 2403 | B6: How many brothers and sisters have migrated (or live) abroad? | C6: Males: |___|___| Females: |___|___| | D6: Provide numerical textboxes or drop down menus
A8: =A6+1 -> 2404 | B8: =A8+1 -> 2405 | C8: =B8+1 -> 2406 | D8: =C8+1 -> 2407 | E8: =D8+1 -> 2408 | F8: =E8+1 -> 2409 | G8: =F8+1 -> 2410
A9: serial # of traveling sibling | B9: Name of the sibling residing abroad | C9: Gender of the sibling residing abroad | D9: Did this sibling migrate with his entire family? | E9: How many individuals migrated with him/her? | F9: In which country is this individual living now? | G9: When was the first time s/he left Jordan?
A10: 1 | C10: 1. Male 2. Female | D10: 1. Yes 2. No 98. Don't know | E10: Dropdown menu from (1-15), 98 if don't know | F10: List of the world countries | G10: Dropdown menu (1930-2016, don't know: 9998)
A11: 2 | D11: =CONCATENATE("If Q",D8,"=2 or 98-->Q",F8) -> If Q2407=2 or 98-->Q2409 | G11: =CONCATENATE("Number of rows equals the sum of males and females provided in ",A6) -> Number of rows equals the sum of males and females provided in 2403
A13: =G8+1 -> 2411 | B13: Did any of your brothers/sisters die? | C13: 1. Yes 2. No 98. Don't know | D13: =CONCATENATE(" If 2 or 98 --> Q",A19 ) -> If 2 or 98 --> Q2417
A14: =A13+1 -> 2412 | B14: How many brothers/sisters died? | C14: Males: |___|___| Females: |___|___| | D14: Provide numerical textboxes or drop down menus
A15: =A14+1 -> 2413 | B15: Did any of these die before the age of 5? | C15: 1. Yes 2. No 98. Don't know | D15: =CONCATENATE(" If 2 or 98 --> Q",A17) -> If 2 or 98 --> Q2415
A16: =A15+1 -> 2414 | B16: How many brothers/sisters died before they were 5 years old? | C16: Males: |___|___| Females: |___|___| *If don't know, 98 | D16: Provide numerical textboxes or drop down menus
A17: =A16+1 -> 2415 | B17: Did any of these die after 2010? | C17: 1. Yes 2. No 98. Don't know | D17: =CONCATENATE("If 2 or 98 --> Q",A19) -> If 2 or 98 --> Q2417
A18: =A17+1 -> 2416 | B18: How many brothers/sisters died after 2010? | C18: Males: |___|___| Females: |___|___| *If don't know, 98 | D18: Provide numerical textboxes or drop down menus
A19: =A18+1 -> 2417 | B19: What is (was) your birth order among all your siblings including those who passed away? | C19: Dropdown from (1st to 15th), don't know = 98
A20: =A19+1 -> 2418 | B20: What's your birth order among your siblings of your same sex? | C20: Dropdown from (1st to 15th), don't know = 98

Sheet 2.5 Health
A1: Section 2.5 Health Issues
B2: Ages 6+ based on Q206
A3: Question # | B3: Question | C3: Type of Question | D3: Validation
A4: 2501 | B4: How is your health in general? | C4: Multiple Choice: 1. very good / excellent 2. good 3. fair 4. bad 5. very bad 98. Don't know
A5: =A4+1 -> 2502 | B5: Do you have any health insurance and if so, what type of health insurance do you have? (If multiple, list the one you rely on the most) | C5: Multiple Choice: 1. No health insurance 2. Ministry of Health 3. Royal Medical Services 4. University Hostpitals 5. UNRWA Hostpital 6. Private health insurance 97. Other (Specifiy) 98. Don't know | D5: If 97 --> provide a textbox
A6: =A5+1 -> 2503 | B6: When you are ill or seeking health care advice, where do you usually go? (If multiple, list the one you rely on the most) | C6: 1. Don't go anywhere 2. Local traditional healer 3. Pharmacy 4. Public hospital/clinic 5. Private hospital/clinic 6. Mosque/church hospital/clinic 7. International organization/NGO hospital/clinic 97. Other (specify) | D6: If 97 --> provide a textbox
A7: =A6+1 -> 2504 | B7: Do you have any longstanding illness / chronic diseases? | C7: 1. Yes 2. No 98- don't know | D7: =CONCATENATE(" If 2 or 98 -->Q",A9 ) -> If 2 or 98 -->Q2506
A8: =A7+1 -> 2505 | B8: Which diseases? (rank in order of severity) | C8: First disease: Second Disease: Third Disease: Provide three Dropdown Menus with the following choices: 1. High blood pressure 2. Arthritis 3. Diabetes 4. Bronchial asthma 5. Chronic bronchitis 6. Ulcer 7. Mental Health 8. Multiple sclerosis 9. Anemia 10. Malignant tumor 11.Hepatitis (Virus C) 12. Chronic diarrhea 97.Other (Specify) 98. Don't know 99. N/A (Second and third disease only) | D8: Validation: Once the person picks an answer, it should disappear from the following dropdown menus. If 97, provide textbox 99 available only for second and third disease
A9: =A8+1 -> 2506 | B9: Do you have any kind of mental or physical disability? | C9: 1. Yes 2. No 98. Don't know | D9: =CONCATENATE("If 2 or 98-->Q",A12) -> If 2 or 98-->Q2509
A10: =A9+1 -> 2507 | B10: What is the main disability? | C10: 1. Learning disability (Mental) 2. Mobility disability (physical) 3. Visual disability 4. Audio disability 5. Speaking Disability 97. Other (specify) 98. Don’t' know | D10: If 97 --> provide a textbox
A11: =A10+1 -> 2508 | B11: Are you currently limited in normal daily activities because of a health problem or a disability that has lasted for six months or more? | C11: Multiple Choice: 1.Yes, to a great extent 2. Yes, limited (to some extent) 3.No, not limited 98. Don't know
A12: =A11+1 -> 2509 | B12: How often did you eat three 'square meals' (full stomach meals) a day in the past 12 months (not a celebration/holiday)? | C12: 1. Almost everyday (3 meals each day) 2. Often (3 at least a few times each week) 3. Sometimes (3 per day 7-12 times this year) 4. Rarely (3 per day only 1-6 times this year) 5. Never
A13: =A12+1 -> 2510 | B13: In the last 12 months how often did you yourself skip entire meals due to scarcity of food? | C13: 1. Never 2. Rarely (only 1-6 times this year) 3. Sometimes (7-12 times this year) 4. Often (a few times each month) 5. Mostly (most days/weeks)
A14: =A13+1 -> 2511 | B14: In the last 12 months how often did you yourself eat less food in a meal due to scarcity of food? | C14: 1. Never 2. Rarely (only 1-6 times this year) 3. Sometimes (7-12 times this year) 4. Often (a few times each month) 5. Mostly (most days/weeks)

Sheet 3.0 Education
A1: Section 3. Education Ages 6+ based on Q206
A3: Question # | B3: Question | C3: Type of Question | D3: Validation & Skip Patterns
A4: 3001 | B4: Do (or did) you go to school? | C4: Multiple Choice: 1. never been 2. have been to school in the past 3. studying at present | D4: =CONCATENATE("Skip Pattern: if 1 -->",A5," if 2-->",A6," if 3-->",A9," Question Validation If 1 --> Q",'2.1 Personal Biography'!A29, " should be 9999 N/A ") -> Skip Pattern: if 1 -->3002 if 2-->3003 if 3-->3006 Question Validation If 1 --> Q2121 should be 9999 N/A
A5: =A4+1 -> 3002 | B5: Why didn’t you go to school? (the main reason) | C5: Dropdown Menu: 1. no available school 2. fees are too high 3. school is too far 4. Poverty 5. family disintegration 6. Disease, disability 7. Difficulty of transportation 8. Marriage 9. Look after the family 10. was not successful at school 11. individual not wanting to 12. Work 13. parents did not want to 14. Customs and Traditions 15. Violence/conflict/ absence of security 98. Don't know 97. other (specify) | D5: =CONCATENATE("If 97, provide textbox Skip Pattern After answering --> Q",A80) -> If 97, provide textbox Skip Pattern After answering --> Q3073
A6: =A5+1 -> 3003 | B6: Why did you leave school? (main reason) | C6: Primary Reason : (dropdown menu) Secondary Reason: (dropdown menu) *Dropdown menus include the following options: 1. Completed all stages of education 2. Disease, disability 3. Poor family 4. family disintegration 5. School is too far or not available 6. Difficulty of transportation 7. Marriage 8. had to help at home 9. Didn't do well at school 10. I did not want to finish 11. Work 12. High tuition costs 13. Pregnancy and giving birth 14. maltreatment at school 15. repetitive failure 16. behavioural reasons (dismiss) 17. Violence/conflict/ absence of security 97. other (mention) 98. Don't know 99. n/a (secondary reason only) | D6: =CONCATENATE("If 97, provide textbox If age in ", '2.1 Personal Biography'!A5,"< 42 --> Q",A9) -> If 97, provide textbox If age in 2102< 42 --> Q3006
A7: =A6+1 -> 3004 | B7: What is the highest level of schooling you entered and what grade did you complete successfully in that level? | C7: Stage Dropdown menu with the following options: 1. Primary 2. Preparatory 3. Basic 4. Vocational 5. Secondary 6. Intermediate diploma 7. Bachelor's 8. Post-graduate Diploma 9. MA 10. PhD | D7: =CONCATENATE("Range for the grade should be: 0-6 if primary 1 0-3 if preparatory 2 0-10 if basic 3 0-2 if vocational, secondary, or intermediate diploma 4,5,6 0-6 if Bachelor's"," 7 0-3 if post-graduate diploma 8 0-4 MA 9 0-10 PhD 10 Lock survey from continuing until the year has been entered. Skip pattern: if 1, 2, 3, 4, or (5 & year is 0 or 1) --> Q", A79) -> Range for the grade should be: 0-6 if primary 1 0-3 if preparatory 2 0-10 if basic 3 0-2 if vocational, secondary, or intermediate diploma 4,5,6 0-6 if Bachelor's 7 0-3 if post-graduate diploma 8 0-4 MA 9 0-10 PhD 10 Lock survey from continuing until the year has been entered. Skip pattern: if 1, 2, 3, 4, or (5 & year is 0 or 1) --> Q3072
A8: =A7+1 -> 3005 | B8: What degree and specializaion did you receive? | C8: Degree dropdown menu with the following options: 1. Secondary 2. Post-secondary 3. Bachelor's 4. Higher Degree 5. Master's 6. Doctorate 98. Don't know 97. Other (specify) Two hierarchical dropdown menus: Specialization (level 2), if other 97 & specify; if don't know 98 Specialization (level 3) if other 997 & specify; if don't know 998 | D8: =CONCATENATE("Dropdown menu with the certificate specialization codes & 9999 for not applicable If 97, provide textbox After answering --> Q",A79) -> Dropdown menu with the certificate specialization codes & 9999 for not applicable If 97, provide textbox After answering --> Q3072
A9: =A8+1 -> 3006 | B9: What is the highest level of schooling you entered and what grade did you completed in that level successfully? | C9: Stage Dropdown menu with the following options: 1. Basic 2. Vocational 3. Secondary 4. Intermediate diploma 5. Bachelor's 6. Post-graduate diploma 7. Master's 8. PhD | D9: =CONCATENATE("*Range for the grade should be: 0-10 if basic 0-2 if vocational, secondary, or intermediate diploma 0-6 if Bachelor's 0-3 if post-graduate diploma"," 0-4 MA 0-10 PhD Lock survey from continuing until the year has been entered. Skip pattern: If 1 --> Q", A40," If 2 or 3 --> Q",A26," If 4 or 5 --> Q",A16) -> *Range for the grade should be: 0-10 if basic 0-2 if vocational, secondary, or intermediate diploma 0-6 if Bachelor's 0-3 if post-graduate diploma 0-4 MA 0-10 PhD Lock survey from continuing until the year has been entered. Skip pattern: If 1 --> Q3037 If 2 or 3 --> Q3023 If 4 or 5 --> Q3013
A10: =A9+1 -> 3007 | B10: What type of university did you attend for your post-graduate studies? | C10: 1. Public/government 2. Private 4. Outside Jordan 98. Don't know | D10: =CONCATENATE("If 4 --> ",A12," if 98 -->",A13) -> If 4 --> 3009 if 98 -->3010
A11: =A10+1 -> 3008 | B11: What is the name of the university you attended (are attending) for your post graduate studies? | C11: Dropdown menu with names of universities found in Jordan 97 for other, 98 for don't know | D11: =CONCATENATE("Hierarchical ( and searchable) dropdown menu based on answer in ",A10," Validation: If the choice was not provided, the person should select 97, other. Skip Pattern: after answering -->",A13) -> Hierarchical ( and searchable) dropdown menu based on answer in 3007 Validation: If the choice was not provided, the person should select 97, other. Skip Pattern: after answering -->3010
A12: =A11+1 -> 3009 | B12: Select the name of the country for post-graduate studies | C12: List of Countries
A13: =A12+1 -> 3010 | B13: What degree and specializaion did you (or will) receive? | C13: Degree (dropdown menu with the following options): 1. Post-graduate diploma 2. Master's 3. Doctorate 97. Other (specify) 98. Don't know Two hierarchical dropdown menus: Specialization (level 2) Specialization (level 5) | D13: =CONCATENATE("if 97 then provide a textbox skip pattern: Check Q",A4,",: If Q",A4,"=3 --> Q",A16," If Q",A4, "=2 --> Q",A14," *Dropdown menu with certification specialization codes, 9997 if other, 9998 if don't know") -> if 97 then provide a textbox skip pattern: Check Q3001,: If Q3001=3 --> Q3013 If Q3001=2 --> Q3011 *Dropdown menu with certification specialization codes, 9997 if other, 9998 if don't know
A14: =A13+1 -> 3011 | B14: What year did you complete your post graduate degree? | C14: YEAR Dropdown menu {1930-2016}, don't know: 9998, N/A 9999 | D14: =CONCATENATE("Check year with Q",'2.1 Personal Biography'!A37," or Q",'2.1 Personal Biography'!A43, " If year given, automatically calculate Q",A15) -> Check year with Q2128 or Q2133 If year given, automatically calculate Q3012
A15: =A14+1 -> 3012 | B15: How old were you when you completed your post graduate degree? | C15: Age : {15-90, 98 if don't know, N/A 99}
A16: =A15+1 -> 3013 | B16: What kind of university/institute did you attend for your bachelor or intermediate diploma studies? | C16: 1. Public Community college 2. Private Community college/ international organizations 3. Public university 4. Private University 5. University Abroad 97. Other (Specify) 98. Don't know | D16: =CONCATENATE("Skip Pattern: if 5 --> ",A18," If 97, provide a textbox") -> Skip Pattern: if 5 --> 3015 If 97, provide a textbox
A17: =A16+1 -> 3014 | B17: What is the name of the university or institute you attended (are attending) for either community college or university? | C17: Dropdown menu with names of universities found in Jordan 97 for other, 98 for don't know | D17: =CONCATENATE("Hierarchical ( and searchable) dropdown menu based on answer in ",A16," Validation: If the choice was not provided, the person should select 97, other. Skip Pattern: after answering -->",A19) -> Hierarchical ( and searchable) dropdown menu based on answer in 3013 Validation: If the choice was not provided, the person should select 97, other. Skip Pattern: after answering -->3016
A18: =A17+1 -> 3015 | B18: What was the name of the country? | C18: List of Countries
A19: =A18+1 -> 3016 | B19: What degree and specializaion did you (or will) receive? | C19: 1. College Degree 2. Comperhensive Exam for Intermidate Diploma 3. Bachelor 97. Other (specify) 98. Don't know Specialization, level 2: ______________ Specialization, level 5: ___________________ | D19: =CONCATENATE("if 97 then provide a textbox *Dropdown menu with certification specialization codes, 9997 if other, 9998 if don't know") -> if 97 then provide a textbox *Dropdown menu with certification specialization codes, 9997 if other, 9998 if don't know
A20: =A19+1 -> 3017 | B20: What is/was the main language of instruction at this institution? | C20: 1- Arabic 2- French 3- English 97- Other (Specify) 98. Don't know | D20: If 97, provide a textbox
A21: =A20+1 -> 3018 | B21: What year did you start your university or intermediate diploma education? | C21: YEAR Dropdown menu {1930-2016, 9998 if don't know} | D21: =CONCATENATE("If 9998 -->",A22," Otherwise, Check Q",A4,": if Q",A4,"=3 & Q",A9,"=4 or 5 -->",A26," if Q",A4,"=3 & Q",A9,"=6 or 7 or 8 -->",A23," if Q",A4,"=2 -->", A23," Automatically calculate the age if year is not 9998") -> If 9998 -->3019 Otherwise, Check Q3001: if Q3001=3 & Q3006=4 or 5 -->3023 if Q3001=3 & Q3006=6 or 7 or 8 -->3020 if Q3001=2 -->3020 Automatically calculate the age if year is not 9998
A22: =A21+1 -> 3019 | B22: How old were you when you started your university or intermediate diploma education? | C22: Age : {15-90, 98 if don't know} | D22: =CONCATENATE(" Check Q",A4,": if Q",A4,"=3 & Q",A9,"=4 or 5 -->",A26," Automatically calculate the age if year is not 9998") -> Check Q3001: if Q3001=3 & Q3006=4 or 5 -->3023 Automatically calculate the age if year is not 9998
A23: =A22+1 -> 3020 | B23: What year did you complete your university or intermediate diploma education? | C23: YEAR Dropdown menu {1930-2016, 9998 if don't know, N/A 9999} | D23: =CONCATENATE("If 9998 -->",A24," If year given, automatically calculate Q",A24) -> If 9998 -->3021 If year given, automatically calculate Q3021
A24: =A23+1 -> 3021 | B24: How old were you when you completed your university or intermediate diploma education? | C24: Age : {15-90, 98 if don't know, N/A 99}
A25: =A24+1 -> 3022 | B25: What final grade did you achieve at the end of your university or intermeidate diploma studies? | C25: Multiple Choice: 1- Excellent 2. Very good 3. Good 4. Average 97. Other (Specify) 98. Don't know | D25: If 97, provide a textbox
A26: =A25+1 -> 3023 | B26: Where was your vocational or secondary school? | C26: 1. Inside Jordan 2. Outside Jordan 98. Don't know | D26: =CONCATENATE("If 2 --> Q",A28,"; if 98 -->",A30) -> If 2 --> Q3025; if 98 -->3027
A27: =A26+1 -> 3024 | B27: Select the governate and province: | C27: Governate: District | D27: =CONCATENATE("Provide hierarchical dropdown menus for governorate and district. After answering -->",A29) -> Provide hierarchical dropdown menus for governorate and district. After answering -->3026
A28: =A27+1 -> 3025 | B28: Select the name of the country | C28: Country: (dropdown list of countries) | D28: =CONCATENATE("After answering -->",A30) -> After answering -->3027
A29: =A28+1 -> 3026 | B29: What is the name of your vocational or secondary school? | C29: dropdown menu with the names of secondary schools found in Jordan, don't know = 9998 | D29: =CONCATENATE("*List only the schools found in the governorate selected in ",A27) -> *List only the schools found in the governorate selected in 3024
A30: =A29+1 -> 3027 | B30: What type of vocational or secondary school did/do you attend? | C30: 1. public (regular) 2. private 97. Other (specify) 98. Don't Know | D30: =CONCATENATE(" If 97, provide a textbox") -> If 97, provide a textbox
A31: =A30+1 -> 3028 | B31: Were you enrolled in the general or vocational branch of secondary school? | C31: 1- general/academic 2- vocational 98. Don't know | D31: =CONCATENATE("Skip Pattern If 2--> Q",A33) -> Skip Pattern If 2--> Q3030
A32: =A31+1 -> 3029 | B32: What was/is your major in general secondary education? | C32: 1. Sciences 2. Arts 3. Legal 4. Management 97. Other (Specify) 98. Don't know | D32: =CONCATENATE("If 97, provide a textbox Skip Pattern: Check Q", A4, " If Q",A4,"= 3 & Q",A9,"=2 or 3--> Q",A37, " If Q",A4,"= 3 & Q",A9,"=4-8--> Q",A34, " If Q",A4,"=2 --> Q",A34) -> If 97, provide a textbox Skip Pattern: Check Q3001 If Q3001= 3 & Q3006=2 or 3--> Q3034 If Q3001= 3 & Q3006=4-8--> Q3031 If Q3001=2 --> Q3031
A33: =A32+1 -> 3030 | B33: What was/is your major in vocational education? | C33: 1. commercial 2. nursing 3. manfacuring 4. agricultural 5. electrical 6. mechanical 7. home economics 8. postal 9. hotel 10. beauty 11. sewing 12. child education 13. health education 97. Other 98. don't know | D33: =CONCATENATE("If 97, provide a textbox Skip Pattern: Check Q", A4, " If Q",A4,"= 3 & Q",A9,"=2 or 3--> Q",A37, " If Q",A4,"= 3 & Q",A9,"=4-8--> Q",A34, " If Q",A4,"=2 --> Q",A34) -> If 97, provide a textbox Skip Pattern: Check Q3001 If Q3001= 3 & Q3006=2 or 3--> Q3034 If Q3001= 3 & Q3006=4-8--> Q3031 If Q3001=2 --> Q3031
A34: =A33+1 -> 3031 | B34: What grade did you achieve in the general or vocational secondary final exams? | C34: Score : ___ ___ ___ 996 if individual failed 999 if individual didn't take the test 998 if individual does not remember | D34: Max 3-digit number
A35: =A34+1 -> 3032 | B35: What year did you complete your vocational or secondary education? | C35: YEAR Dropdown menu {1930-2016, 9998 if don't know, N/A 9999} | D35: =CONCATENATE("If 9998 -->",A36," If year given, automatically calculate Q",A36) -> If 9998 -->3033 If year given, automatically calculate Q3033
A36: =A35+1 -> 3033 | B36: How old were you when you completed your vocational or secondary education? | C36: Age : {15-90, 98 if don't know, N/A 99}
A37: =A36+1 -> 3034 | B37: Are/Were there computers available for your use in your vocational or secondary school? | C37: Multiple Choice: 1. Everyday 2. Frequently 3. Sometimes 4. Rarely 5. No 98. Don't know 99. Not applicable (In the case where computers weren't used)
A38: =A37+1 -> 3035 | B38: Did/does your secondary school operate in two periods, morning and evening? | C38: 1. Yes 2. No 98. Don't know
A39: =A38+1 -> 3036 | B39: Are/Were students subject to physical punishment in your secondary school? | C39: Multiple Choice 1. Everyday 2. Frequently 3. Sometimes 4. Rarely 5. No 98. Don't know
A40: =A39+1 -> 3037 | B40: Where was the basic school you attended? | C40: 1. Inside Jordan 2. Outside Jordan 98. Don't know | D40: =CONCATENATE("If 2 --> Q",A42,"; if 98 -->",A44) -> If 2 --> Q3039; if 98 -->3041
A41: =A40+1 -> 3038 | B41: Select the governate and district: | C41: Governate: District: | D41: =CONCATENATE("Provide hierarchical dropdown menus for governorate and district. After answering -->",A43) -> Provide hierarchical dropdown menus for governorate and district. After answering -->3040
...

Sheet 4.0 Past 7 days S & D Work
A1: Section 4.1 Subsistence and Domestic Work during the past 7 days
A2: Ages 6+ based on Q206
A3: Question # | B3: Question | C3: Type of Question | E3: Validation & Skip Patterns
A4: 4001 | B4: Were there any special events in your household during the past 7 days? | C4: 1. Dropdown: 1. Yes 2. No 98. Don't know Sub-questions: 1. Marriage | E4: If 97, provide textbox
C5: 2. Festivals
C6: 3. Deaths
C7: 4. Official Holiday
C8: 5. None
C9: 97. Other(specify)
A11: =A4+1 -> 4002 | B11: Did you spend time in the last 7 days doing any of the following activities? | C11: 1. Dropdown: 1. Yes 2. No 98. Don't know | D11: 2. Time spent (in hours and minutes)
B12: a. Did you spend time on agricultural activities for the purpose of your own householdconsumption in the past seven days? | C12: |___| | D12: |___||___|.|___|___|
B13: b. Did you spend time raising poultry/livestock for the purpose of your own household consumption in the past seven days? | C13: |___| | D13: |___||___|.|___|___|
B14: c. Did you spend time producing ghee/butter/ cheese for the purpose of your own household consumption in the past seven days? | C14: |___| | D14: |___||___|.|___|___|
B15: d. Did you spend time cooking in the past seven days? | C15: |___| | D15: |___||___|.|___|___|
B16: e. Did you spend time washing dishes in the past seven days? | C16: |___| | D16: |___||___|.|___|___|
B17: f. Did you spend time doing laundry and ironing in the past seven days? | C17: |___| | D17: |___||___|.|___|___|
B18: g. Did you spend time cleaning your house in the past seven days? | C18: |___| | D18: |___||___|.|___|___|
B19: h. Did you spend time helping in construction work for the household house in the past seven days? | C19: |___| | D19: |___||___|.|___|___|
B20: i. Did you spend time collecting firewood or other fuel in the past seven days? | C20: |___| | D20: |___||___|.|___|___|
B21: j. Did you spend time shopping for food, clothing, household items in the past seven days? | C21: |___| | D21: |___||___|.|___|___|
B22: k. Did you spend time caring for the sick or the elderly in the past seven days? (while not doing other chores) | C22: |___| | D22: |___||___|.|___|___|
B23: l. Did you spend time taking care of children in the past seven days? (while not doing other chores) | C23: |___| | D23: |___||___|.|___|___|

Sheet 5.1 Employment
A1: Chapter 5 Employment and Unemployment
A2: Section 5.1 Employment (Market Work) during the past seven days
C3: Ages 6+ based on Q206
A4: Q# | B4: Question | C4: Type of Question | F4: Validation & Skip Patterns
A5: 5101 | B5: Have you participated in any employment during the past seven days? (Even if he worked for only one hour) | C5: 1. Yes 2. No 3. Don't know | F5: =CONCATENATE("If 1 -->",A24) -> If 1 -->5107
A6: =A5+1 -> 5102 | B6: Were you attached to a job in the past 7 days but were temporarily absent from it? | C6: 1. Yes 2. No 3. Don't know | F6: =CONCATENATE("If 1 -->",A28) -> If 1 -->5110
A7: =A6+1 -> 5103 | B7: Did you participate in one of the following activities during the past seven days with the purpose of sales/marketing/earning wage/helping in a family business (even if for a short period or irregularly)? | C7: Activity | D7: 1. Yes | E7: 2. No | F7: =CONCATENATE("If any a. -m. = yes, -->",A24) -> If any a. -m. = yes, -->5107
C8: a. agricultural work (e.g., harvesting, cutting clover, irrigation)
C9: b. raising poultry/livestock
C10: c. producing ghee/cheese/butter
C11: d. preparing food/vegetables
C12: e. producing straw products/carpets/textile/ropes
C13: f. offering part-time services for others in a house/shop/hotel
C14: g. street seller
C15: h. construction worker
C16: i. collecting fuel/woodcutting
C17: j. sewing/embroidery/crochet
C18: k. sales & marketing
C19: l. trainee/apprentice
C20: m. working from home (IT programmers, etc.)
A21: =A7+1 -> 5104 | B21: Did you want to work during the past seven days? | C21: 1. Yes 2. No 3. Don't know | F21: =CONCATENATE("If 2 or 98 --> ",A23) -> If 2 or 98 --> 5106
A22: =A21+1 -> 5105 | B22: If there were a suitable job available, would you be able to start work within two weeks? | C22: 1. Yes 2. No 3. Don't know | F22: If 1 --> next section (Ages 15-64) or section 5.3 (Ages 6-14 and 65+)
A23: =A22+1 -> 5106 | B23: Why are you not wanting or not available to work? | C23: 1. housewife 2. full time student 3. has income/revenue 4. does not want to work 5. Temporarily unable to work (disability) 6. Permanently unable to work (disability) 7. Retired 97. Other (specify) 98. Don't know | F23: After answering --> section 5.3 Employment; if 97, provide textbox
A24: =A23+1 -> 5107 | B24: How many days have you actually worked, consecutively or not, during the past seven days? | C24: Dropdown menu, (1-7), don't know = 98
A25: =A24+1 -> 5108 | B25: What is your number of hours of work per work day and per week over the past week? Write 98 if do not know | C25: a. Total number of hours per day:|___|___| | F25: =CONCATENATE("Provide textbox for both lines that accepts only numbers. If b in ",A25, " >= 35 -->",A28," if b in ",A25, "=98 -->",A28) -> Provide textbox for both lines that accepts only numbers. If b in 5108 >= 35 -->5110 if b in 5108=98 -->5110
C26: b. Total number of hours per week: |___|___|
A27: =A25+1 -> 5109 | B27: What is the reason you worked less than 35 hours per week? | C27: 1. required by job conditions 2. no work available work for more hours 3- pay is not rewarding enough 4. don't want to work more time 5. temporary absence from work 97. other (specify) _______________ 98. Don't know | F27: If 97, provide textbox
A28: =A27+1 -> 5110 | B28: When did you start your current work? | C28: a. Month (dropdown menu from Jan-Dec, and 98 for don't know) | F28: =CONCATENATE("Calculate the period: if individual has been working for less than 3 months --> Q",A30," if individual has been working for 3 months or more -->section 6.1") -> Calculate the period: if individual has been working for less than 3 months --> Q5111 if individual has been working for 3 months or more -->section 6.1
C29: b. Year (dropdown menu from 1930-2016, and 9998 for don't know)
A30: =A28+1 -> 5111 | B30: Is your job during the past week the longest main job you had during the past three months? | C30: 1. Yes 2. No 3. Don't know | F30: After answering --> section 6.1

Sheet 5.2 Unemployment
A1: Section 5.2 Unemployment
A2: =CONCATENATE("Apply to those who answered yes to question ",'5.1 Employment'!A22, " and are between ages 15-64 based on Q206 in household questionnaire") -> Apply to those who answered yes to question 5105 and are between ages 15-64 based on Q206 in household questionnaire
A4: Question # | B4: Question | C4: Type of Question | G4: Validation & Skip Patterns
A5: 5201 | B5: Why have you NOT been working during the past seven days? | C5: Main Reason (dropdown menu with the following choices) 1. no work available at all 2. no work suitable to experience and qualifitication is available 3. no work with suitable pay is available 4. no work in a suitable organisation or firm is available 5. no work in suitable location is available 6. cannot afford housing or moving expenses to go where jobs are available 7. concerned about insecurity on way to work 97. Other (Specifiy) | G5: If 97, provide a textbox
A6: =A5+1 -> 5202 | B6: Is there a second reason you have not been looking for work in the past week? | C6: 1. Yes 2. No 98. Don't know | G6: =CONCATENATE("If 2 or 98 --> Q",A8) -> If 2 or 98 --> Q5204
A7: =A6+1 -> 5203 | B7: Select the second reason | C7: Secondary Reason (dropdown menu) 1. no work available at all 2. no work suitable to experience and qualifitication is available 3. no work with suitable pay is avaiable 4. no work in a suitable organisation or firm is available 5. no work in suitable location is available 6. cannot afford housing or moving expenses to go where jobs are available 7. concerned about insecurity on way to work 97. Other (Specifiy) 98. Don't know
A8: =A7+1 -> 5204 | B8: What is the minimum net monthly income you would need to accept a position in the government or public enterprise sector? | C8: Monthly income (in dinar): |___|___|___|___| *in the case of an individual demanding more than 10,000, write 9999 *if don’t know, 9998 *if not willing to work in this sector, write 9996 | G8: Provide a textbox that only accepts numerical values (max 4-digits)
A9: =A8+1 -> 5205 | B9: What is the minimum net monthly income you would need to accept a position in the formal private sector? | C9: Monthly income (in dinar): |___|___|___|___| *in the case of an individual demanding more than 10,000, write 9999 *if don’t know, 9998 *if not willing to work in this sector, write 9996 | G9: Provide a textbox that only accepts numerical values (max 4-digits)
A10: =A9+1 -> 5206 | B10: What is the minimum net monthly income you would need to accept a position in the informal sector? Note: the informal sector is jobs with neither social security nor a contract | C10: Monthly income (in dinar): |___|___|___|___| *in the case of an individual demanding more than 10,000, write 9999 *if don’t know, 9998 *if not willing to work in this sector, write 9996 | G10: Provide a textbox that only accepts numerical values (max 4-digits)
A11: =A10+1 -> 5207 | B11: Would you accept a job as a: | C11: 1. Human Resource Personnel 2. Public Sector Employee 3. Administrative Assistant 4. Data Entry 5. Bank Teller 6. Teacher 7. Customer Service 8. Indoor Sales 9. Telemarketing 10. Outdoor Sales 11. Waiter 12. Agricultural worker 13. Industrial worker | D11: Yes | E11: No | F11: DK( 98)
A12: =A11+1 -> 5208 | B12: When did you start your most recent unemployment spell? **this is the date that the individual finished an employment period (in any work) or when the individual began searching for work for the first time. | C12: a. Month: (dropdown menu from Jan-Dec; don't know=98) b. Year: (dropdown menu from 1930-2016; don't know=9998)
A13: =A12+1 -> 5209 | B13: Did you try any of these actions in the past four weeks to search for a job? | D13: Yes | E13: No | F13: DK (98) | G13: =CONCATENATE("if any of the answers from 1-12, 97 were yes, --> Q",A33," If 97, provide textbox") -> if any of the answers from 1-12, 97 were yes, --> Q5216 If 97, provide textbox
C14: 1. register in public employment offices/civil service bureau
C15: 2. register in private employment office
C16: 3. participate in competitive exam
C17: 4. send job application/CV to any agency
C18: 5. inquire at work location/asked to speak with the owner of the workplace
C19: 6. advertise employment inquiry in newspapers
C20: 7. search for an advertised job in newspapers or internet
C21: 8. apply for an advertised job in newspapers or internet
C22: 9. ask friends or relatives for help
C23: 10. wait at a location where workers gather daily
C24: 11. strive to start his/her own business
C25: 12. arrange financing to fund a private project
C26: 97. Others (Specify)
A27: =A13+1 -> 5210 | B27: What is the main reason you did not search for work in the past four weeks? | C27: Primary Reason (dropdown menu) 1. believe there are no jobs 2. tired of looking for jobs 3. employers prefer males to females in hiring and vise versa 4. do not know an effective way to look for a job 5. no suitable job 6. do not have the required experience 7. lack of personal connections (wasta) 8. because of studying 9. do not need work 10. health conditions do not allow 11. family responsibilities 12. opposition of a family member 97. Other (Specifiy) 98. Don't know | G27: If 97, provide a textbox
A28: =A27+1 -> 5211 | B28: Is there a second reason? | C28: 1. Yes 2. No | G28: =CONCATENATE("If 2-->", A30) -> If 2-->5213
A29: =A28+1 -> 5212 | B29: Select the second reason | C29: Secondary Reason (dropdown menu) 1. believe there are no jobs 2. tired of looking for jobs 3. employers prefer males to females in hiring 4. do not know an effective way to look for a job 5. no suitable job 6. do not have the required experience 7. lack of personal connections (wasta) 8. because of studying 9. do not need work 10. health conditions do not allow 11. family responsibilities 12. opposition of a family member 97. Other (Specify)
A30: =A29+1 -> 5213 | B30: Have you ever actively searched for a job in the current unemployment period? | C30: 1- Yes 2- No | G30: If 2 ---> next section
A31: =A30+1 -> 5214 | B31: When did you start looking for a job for the first time in the current unemployment period? | C31: a. Month: (dropdown menu from Jan-Dec; don't know=98) b. Year: (dropdown menu from 1930-2016; don't know=9998) | G31: =CONCATENATE("Validation: date needs to be the same or later than in Q",A12) -> Validation: date needs to be the same or later than in Q5208
A32: =A31+1 -> 5215 | B32: When did you search for a job for the last time? | C32: a. Month: (dropdown menu from Jan-Dec; don't know=98) b. Year: (dropdown menu from 1930-2016; don't know=9998) | G32: =CONCATENATE("Validation: date needs to be the same or later than in Q",A31," After answering --> next section") -> Validation: date needs to be the same or later than in Q5214 After answering --> next section
A33: =A32+1 -> 5216 | B33: Have you used a landline phone in job-hunting in the past four weeks? | C33: 1- Yes 2- No
A34: =A33+1 -> 5217 | B34: Have you used a cell phone in job-hunting in the past four weeks? | C34: 1- Yes, connected to the internet 2- Yes, but not connected to the internet 3- No
A35: =A34+1 -> 5218 | B35: Have you used a computer in job-hunting in the past four weeks? And if so was this computer connected to the internet? | C35: 1. Yes, with internet 2. Yes, without internet 3. No computer use
A36: =A35+1 -> 5219 | B36: When did you start looking for a job for the first time in the current unemployment period? | C36: a. Month: (dropdown menu from Jan-Dec; don't know=98) b. Year: (dropdown menu from 1930-2016; don't know=9998) | G36: =CONCATENATE("Validation: date needs to be the same or later than in Q",A12) -> Validation: date needs to be the same or later than in Q5208

Sheet 5.3 Subsistence & Domestic Work

Sheet 5.3 Employment
A1: =CONCATENATE("Section 5.3 Employment (Market Work) during the past three months Ages 6+ based on Q206 Those not working in past 7 days (i.e. do not have any yes responses in any of Q",'5.1 Employment'!A5," Q",'5.1 Employment'!A6," Q",'5.1 Employment'!A7, ")") -> Section 5.3 Employment (Market Work) during the past three months Ages 6+ based on Q206 Those not working in past 7 days (i.e. do not have any yes responses in any of Q5101 Q5102 Q5103)
A2: Question # | B2: Question | C2: Type of Question | F2: Validation & Skip Patterns
A3: 5301 | B3: Did you participate in any employment during the past three months? | C3: 1. Yes 2. No | F3: If 1 --> next section
A4: =A3+1 -> 5302 | B4: Did you participate in one of the following activities during the past three months with the purpose of sales/marketing/earning wage/helping in a family business (even if for a short period or irregularly)? | C4: Activity | D4: 1. Yes | E4: 2. No | F4: If yes to any, --> next section
C5: a. agricultural work (e.g., harvesting, cutting clover, irrigation)
C6: b. raising poultry/livestock
C7: c. producing ghee/cheese/butter
C8: d. preparing food/vegetables
C9: e. producing straw products/carpets/textile/ropes
C10: f. offering part-time services for others in a house/shop/hotel
C11: g. street seller
C12: h. construction worker
C13: i. collecting fuel/woodcutting
C14: j. sewing/embroidery/crochet
C15: k. sales & marketing
C16: l. trainee/apprentice
C17: m. working from home (IT programmers, etc.)
A18: =A4+1 -> 5303 | B18: Have you ever worked or participated in any of the previous activities or any other work ever before in your life? *only counts if more than 6 months | C18: 1. Yes 2. No | F18: If 1 & age 15+--> section 7. Job mobility If 1 & age<15--> section 12.1 information technology
A19: =A18+1 -> 5304 | B19: Have you ever in your life searched for work, registered with an employment office, or participated in a employment competition? | C19: 1. Yes 2. No | F19: If 2 & age 15+ --> section 8.1 cost of marriage If 2 & age<15--> section 12.1 information technology
A20: =A19+1 -> 5305 | B20: When did you start looking for work for the first time? | C20: Month: (dropdown menu from Jan-Dec) 98 if don't know Year: (dropdown 1930-2016) 9998 if don't know
A21: =A20+1 -> 5306 | B21: Are you still looking for work? | C21: 1. Yes 2. No | F21: If 1 & age 15+ --> section 8.1 cost of marriage If 1 & age<15--> section 12.1 information technology
A22: =A21+1 -> 5307 | B22: When did you complete your job search process the last time? | C22: Month: ___________________; 98 if don't know Year:____________________; 9998 if don't know | F22: After answering, If age 15+ --> section 8.1 cost of marriage If age<15--> section 12.1 information technology

Sheet 6.1 Job charc 
A1: Chapter 6 Job Characteristics
A2: Section 6.1 Primary Job in the Past Three Months
A3: =CONCATENATE("Apply to all individuals ages 6+ based on Q206 who worked during the past three months, i.e. yes in any of Q",'5.1 Employment'!A5," Q",'5.1 Employment'!A6," Q",'5.1 Employment'!A7," Q",'5.3 Employment'!A3," Q",'5.3 Employment'!A4,")") -> Apply to all individuals ages 6+ based on Q206 who worked during the past three months, i.e. yes in any of Q5101 Q5102 Q5103 Q5301 Q5302)
A4: Question # | B4: Question | C4: Type of Question | E4: Validation & Skip Patterns
A5: 6101 | B5: Do you work in a fixed place or establishment? | C5: 1. Yes 2. No 98. Don't know | E5: =CONCATENATE("If 2 or 98 --> Q",A7) -> If 2 or 98 --> Q6103
A6: =A5+1 -> 6102 | B6: What is the name of the establishment in which you work? | C6: Name of Establishment: ___________ | E6: (Textbox that accepts letters)
A7: =A6+1 -> 6103 | B7: What is the economic activity of the enterprise you work in or the job you do if not in an enterprise? | C7: Economic Activity Level 1: ________________ Economic Activity Level 4: __________________ *Don't know = 98 | E7: Level 1: dropdown menu with the generic economic activities. Level 4: dropdown menu with more specific information.
A8: =A7+1 -> 6104 | B8: What is your occupation in your main job during the past three months? | C8: Occupation : *Don't know = 98 | E8: =CONCATENATE("text box Skip pattern: If age<15-->Q",A11) -> text box Skip pattern: If age<15-->Q6107
A9: =A8+1 -> 6105 | B9: Does your job require supervising others? | C9: 1. Yes 2. No 98. Don't know | E9: =CONCATENATE("If 2 or 98--> Q",A11) -> If 2 or 98--> Q6107
A10: =A9+1 -> 6106 | B10: How many people do you directly supervise? | C10: Number of people: |___|___|___| "998" if "don't know", "999" if supervising more than 1000 | E10: Textbox accepting numerical values - 3-digit values
A11: =A10+1 -> 6107 | B11: Does your job require any techhnical skills? | C11: 1. Yes 2. No 98. Don't know | E11: =CONCATENATE("If 2 or 98 --> Q",A15) -> If 2 or 98 --> Q6111
A12: =A11+1 -> 6108 | B12: How did you acquire that skill? (mention main method) | C12: 1. regular schooling (except technical education) 2. Technical education 3. Vocational Training 4. through contractor 5. through craftsman 6. on-the-job in a public enterprise 7. on-the-job in a formal private enterprise 8. on-the-job in a family enterprise 97. Other (specify) 98. Don't know | E12: If 97, provide a textbox
A13: =A12+1 -> 6109 | B13: Is the individual engaged in a craft-related job? | C13: 1. Yes 2. No 98. Don't know | E13: =CONCATENATE("If 2 or 98 --> Q",A15) -> If 2 or 98 --> Q6111
A14: =A13+1 -> 6110 | B14: What is the level of your skill? | C14: 1. apprentice 2. assistant 3. craftsman 98. Don't know
A15: =A14+1 -> 6111 | B15: Did you participate in any training program other than regular education to be able to do this job? | C15: 1. Yes 2. No 98. Don't Know | E15: =CONCATENATE("If 2 or 98-> Q",A19) -> If 2 or 98-> Q6115
A16: =A15+1 -> 6112 | B16: What kind of training program did you participate in? (If more than one program, ask about the longest one) | C16: 1. Vocational Training Corporation 2. UNRWA 3. Private Technical Institute 4. Job-related program provided by employer 5. Public vocational training program 6. Private vocational training program 7. Language-course 8. Computer course 9. Secretarial course 97. Other (Specify) 98. Don't know | E16: If 97, provide a textbox
A17: =A16+1 -> 6113 | B17: How many weeks did this training require? | C17: Number of weeks: |___|___|___| Interviewer: If more than 100, write "999" If "don't know", write 998 If less than 1 week,write "01" | E17: Textbox accepting numbers - 3 digit numbers
A18: =A17+1 -> 6114 | B18: Who covered most of the cost of the training? | C18: 1. Individual him/herself 2. Individual's Family 3. Employer 4. Public Agency 5. Relief Agency 6. NGO 97. Other (specify) 98. Don't know | E18: If 97, provide a textbox
A19: =A18+1 -> 6115 | B19: What are the minimum education requirements for your job? | C19: 1. No formal schooling 2. Literacy Certificate 3. Primary 4. Preparatory 5. Secondary 6. Bachelor's Degree 7. Postgraduate Degree 98. Don't know
